BEGIN:VCALENDAR
VERSION:2.0
PRODID:-//Eventos//NONSGML v1.0//EN
CALSCALE:GREGORIAN
METHOD:PUBLISH
X-WR-CALNAME:Eventos
X-WR-TIMEZONE:UTC
BEGIN:VEVENT
UID:20260422150000Z-151467@eventos.ui1.es
DTSTAMP:20260422T150000Z
DTSTART:20260422T150000Z
DTEND:20260422T160000Z
SUMMARY:Webinar: Mandos intermedios y experiencia de empleado
DESCRIPTION:http://eventos.ui1.es/event_detail/151467
LOCATION:Universidad Isabel I (UI1)\, Calle de Fernán González\, Burgos\, España
END:VEVENT
BEGIN:VEVENT
UID:20260505143000Z-149443@eventos.ui1.es
DTSTAMP:20260505T143000Z
DTSTART:20260505T143000Z
DTEND:20260505T160000Z
SUMMARY:Jornada: La Prevención Evoluciona
DESCRIPTION:http://eventos.ui1.es/event_detail/149443
LOCATION:Universidad Isabel I (UI1)\, Calle de Fernán González\, Burgos\, España
END:VEVENT
BEGIN:VEVENT
UID:20260610150000Z-151905@eventos.ui1.es
DTSTAMP:20260610T150000Z
DTSTART:20260610T150000Z
DTEND:20260610T160000Z
SUMMARY:Webinar: La IA aplicada en RRHH
DESCRIPTION:http://eventos.ui1.es/event_detail/151905
LOCATION:Universidad Isabel I (UI1)\, Calle de Fernán González\, Burgos\, España
END:VEVENT
BEGIN:VEVENT
UID:20250430143000Z-132462@eventos.ui1.es
DTSTAMP:20250430T143000Z
DTSTART:20250430T143000Z
DTEND:20250430T160000Z
SUMMARY:Jornada sobre Digitalización, IA y PRL
DESCRIPTION:http://eventos.ui1.es/event_detail/132462
LOCATION:Universidad Isabel I (UI1)\, Calle de Fernán González\, Burgos\, España
END:VEVENT
BEGIN:VEVENT
UID:20250428100000Z-134095@eventos.ui1.es
DTSTAMP:20250428T100000Z
DTSTART:20250428T100000Z
DTEND:20250428T120000Z
SUMMARY:II Jornada sobre Inserción Profesional en las Fuerzas Armadas
DESCRIPTION:http://eventos.ui1.es/event_detail/134095
LOCATION:Universidad Isabel I (UI1)\, Calle de Fernán González\, Burgos\, España
END:VEVENT
BEGIN:VEVENT
UID:20240703110000Z-118507@eventos.ui1.es
DTSTAMP:20240703T110000Z
DTSTART:20240703T110000Z
DTEND:20240703T120000Z
SUMMARY:Webinar: Potenciando la FP:. Resultados de #SERFP
DESCRIPTION:http://eventos.ui1.es/event_detail/118507
LOCATION:Universidad Isabel I (UI1)\, Calle de Fernán González\, Burgos\, España
END:VEVENT
BEGIN:VEVENT
UID:20240524080000Z-117956@eventos.ui1.es
DTSTAMP:20240524T080000Z
DTSTART:20240524T080000Z
DTEND:20240524T090000Z
SUMMARY:Presentación Oxford Test Of English
DESCRIPTION:http://eventos.ui1.es/event_detail/117956
LOCATION:Universidad Isabel I (UI1)\, Calle de Fernán González\, Burgos\, España
END:VEVENT
BEGIN:VEVENT
UID:20240312160000Z-110483@eventos.ui1.es
DTSTAMP:20240312T160000Z
DTSTART:20240312T160000Z
DTEND:20240312T170000Z
SUMMARY:Webinar: Creatividad para impulsar el talento
DESCRIPTION:http://eventos.ui1.es/event_detail/110483
LOCATION:Universidad Isabel I (UI1)\, Calle de Fernán González\, Burgos\, España
END:VEVENT
END:VCALENDAR
