BEGIN:VCALENDAR
VERSION:2.0
PRODID:-//Eventos//NONSGML v1.0//EN
CALSCALE:GREGORIAN
METHOD:PUBLISH
X-WR-CALNAME:Eventos
X-WR-TIMEZONE:UTC
BEGIN:VEVENT
UID:20260421170000Z-151957@eventos.ui1.es
DTSTAMP:20260421T170000Z
DTSTART:20260421T170000Z
DTEND:20260421T190000Z
SUMMARY:Sublime Decisión. I Ciclo de Teatro Solidario Universidad Isabel I
DESCRIPTION:http://eventos.ui1.es/event_detail/151957
LOCATION:Universidad Isabel I (UI1)\, Calle de Fernán González 76\, Burgos\, España
END:VEVENT
BEGIN:VEVENT
UID:20260528170000Z-151965@eventos.ui1.es
DTSTAMP:20260528T170000Z
DTSTART:20260528T170000Z
DTEND:20260528T190000Z
SUMMARY:Un Dios Salvaje. I Ciclo de Teatro Solidario Universidad Isabel I
DESCRIPTION:http://eventos.ui1.es/event_detail/151965
LOCATION:Universidad Isabel I (UI1)\, Calle de Fernán González 76\, Burgos\, España
END:VEVENT
END:VCALENDAR
